BEGIN:VCALENDAR
VERSION:2.0
PRODID:-//Giant Screen Cinema Association - ECPv6.15.17//NONSGML v1.0//EN
CALSCALE:GREGORIAN
METHOD:PUBLISH
X-WR-CALNAME:Giant Screen Cinema Association
X-ORIGINAL-URL:https://www.giantscreencinema.com
X-WR-CALDESC:Events for Giant Screen Cinema Association
REFRESH-INTERVAL;VALUE=DURATION:PT1H
X-Robots-Tag:noindex
X-PUBLISHED-TTL:PT1H
BEGIN:VTIMEZONE
TZID:UTC
BEGIN:STANDARD
TZOFFSETFROM:+0000
TZOFFSETTO:+0000
TZNAME:UTC
DTSTART:20250101T000000
END:STANDARD
END:VTIMEZONE
BEGIN:VTIMEZONE
TZID:America/New_York
BEGIN:DAYLIGHT
TZOFFSETFROM:-0500
TZOFFSETTO:-0400
TZNAME:EDT
DTSTART:20250309T070000
END:DAYLIGHT
BEGIN:STANDARD
TZOFFSETFROM:-0400
TZOFFSETTO:-0500
TZNAME:EST
DTSTART:20251102T060000
END:STANDARD
BEGIN:DAYLIGHT
TZOFFSETFROM:-0500
TZOFFSETTO:-0400
TZNAME:EDT
DTSTART:20260308T070000
END:DAYLIGHT
BEGIN:STANDARD
TZOFFSETFROM:-0400
TZOFFSETTO:-0500
TZNAME:EST
DTSTART:20261101T060000
END:STANDARD
BEGIN:DAYLIGHT
TZOFFSETFROM:-0500
TZOFFSETTO:-0400
TZNAME:EDT
DTSTART:20270314T070000
END:DAYLIGHT
BEGIN:STANDARD
TZOFFSETFROM:-0400
TZOFFSETTO:-0500
TZNAME:EST
DTSTART:20271107T060000
END:STANDARD
END:VTIMEZONE
BEGIN:VEVENT
DTSTART;TZID=UTC:20260331T120000
DTEND;TZID=UTC:20260331T130000
DTSTAMP:20260420T222408
CREATED:20260228T172008Z
LAST-MODIFIED:20260228T172639Z
UID:9719-1774958400-1774962000@www.giantscreencinema.com
SUMMARY:GSCA Marketing Cafe
DESCRIPTION:REGISTER HEREThe GSCA Marketing Café is a casual\, creative meetup where GSCA members can connect\, explore ideas\, and support each other outside the inbox. \nWhy We’re Doing This \nThe Marketing Café is designed to help us learn from each other in an open\, low-pressure environment: \n\nTalk about marketing topics and trends\nShare insights\, challenges\, and solutions\nFind simple ways to collaborate with other GSCA members\n\nHow It Works \n\nA 60-minute session with a quick check-in and check-out\nCo-creative methods (including Lean Coffee) — no preparation needed\nOpen to any GSCA member\, not just marketers\nFacilitated by Caroline\, Ryan\, and Tammy\n\nDetails \n\nDate & Time: Tuesday\, March 31 at noon ET\nLocation: Zoom – Register Here!\nHosts: Caroline\, Tammy\, and Ryan from the Marketing Committee\n\nWhether you want to exchange ideas\, learn something new\, or simply connect with colleagues\, the Marketing Café is your space to do it. \nThis initiative is a friendly spin-off from the Marketing Committee — a more informal place to collaborate\, chat\, and grow together. \nWe look forward to having you with us!
URL:https://www.giantscreencinema.com/gscaevent/gsca-marketing-cafe/
LOCATION:Zoom
CATEGORIES:Marketing
ATTACH;FMTTYPE=image/png:https://www.giantscreencinema.com/wp-content/uploads/Marketing-Cafe-square.png
END:VEVENT
BEGIN:VEVENT
DTSTART;TZID=UTC:20260325T120000
DTEND;TZID=UTC:20260325T130000
DTSTAMP:20260420T222408
CREATED:20260302T005742Z
LAST-MODIFIED:20260303T161327Z
UID:9726-1774440000-1774443600@www.giantscreencinema.com
SUMMARY:Putting the FUN Back into Marketing Webinar
DESCRIPTION:Putting the FUN Back into Marketing\n Metrics\, KPIs\, Data points\, and Conversions… oh my! These are important for any marketing campaign\, but let’s not forget the FUN! \nJoin Lori Rick from MacGillivray Freeman Films and Ryan Holota from the Saskatchewan Science Centre for a fast-paced\, idea-packed session designed to reignite the creative spark in giant screen film marketing. \nIn just one hour (45 minutes of ideas + 15 minutes of discussion)\, the webinar will showcase fun\, bold\, and engaging film marketing activations from some of their campaigns—and spotlight standout ideas from giant screen theatres around the world\, including: \n\nTennessee Aquarium IMAX\nCincinnati IMAX Theatre\nTELUS World of Science Edmonton\n…and more creative powerhouses in the GSCA community.\n\nExpect practical ideas you can adapt immediately: interactive lobby activations\, playful social campaigns\, audience challenges\, themed events\, and simple touches that make films feel like events\, not just screenings. \nWhether you’re looking to energize your next documentary launch or surprise your regular audience with something unexpected\, this session will leave you inspired—and ready to experiment. \nBring your notebook. You’ll need it. \nLet’s make marketing fun again. \nRegister Here
URL:https://www.giantscreencinema.com/gscaevent/putting-the-fun-back-into-marketing-webinar/
LOCATION:Zoom
CATEGORIES:Webinar
END:VEVENT
BEGIN:VEVENT
DTSTART;TZID=America/New_York:20260225T120000
DTEND;TZID=America/New_York:20260225T130000
DTSTAMP:20260420T222408
CREATED:20260114T173034Z
LAST-MODIFIED:20260121T202441Z
UID:9580-1772020800-1772024400@www.giantscreencinema.com
SUMMARY:Marketing Cafe
DESCRIPTION:Register Here!\nThe GSCA Marketing Café is a casual\, creative meetup where GSCA members can connect\, explore ideas\, and support each other outside the inbox. \nWhy We’re Doing This \nThe Marketing Café is designed to help us learn from each other in an open\, low-pressure environment: \n\nTalk about marketing topics and trends\nShare insights\, challenges\, and solutions\nFind simple ways to collaborate with other GSCA members\n\nHow It Works \n\nA 60-minute session with a quick check-in and check-out\nCo-creative methods (including Lean Coffee) — no preparation needed\nOpen to any GSCA member\, not just marketers\nFacilitated by Caroline\, Ryan\, and Tammy\n\nDetails \n\nDate & Time: Wednesday\, February 25 at noon ET\nLocation: Zoom – Register Here!\nHosts: Caroline\, Tammy\, and Ryan from the Marketing Committee\n\nWhether you want to exchange ideas\, learn something new\, or simply connect with colleagues\, the Marketing Café is your space to do it. \nThis initiative is a friendly spin-off from the Marketing Committee — a more informal place to collaborate\, chat\, and grow together. \nWe look forward to having you with us!
URL:https://www.giantscreencinema.com/gscaevent/marketing-cafe-2/
LOCATION:Zoom
CATEGORIES:Marketing
ATTACH;FMTTYPE=image/png:https://www.giantscreencinema.com/wp-content/uploads/Marketing-Cafe-square-image-2.png
ORGANIZER;CN="Tammy Barrett":MAILTO:tammy@giantscreencinema.com
END:VEVENT
BEGIN:VEVENT
DTSTART;TZID=America/New_York:20260121T120000
DTEND;TZID=America/New_York:20260121T130000
DTSTAMP:20260420T222408
CREATED:20251209T185115Z
LAST-MODIFIED:20251218T163534Z
UID:9513-1768996800-1769000400@www.giantscreencinema.com
SUMMARY:Marketing Cafe
DESCRIPTION:Register Here!\nWe’re excited to invite you to the very first Marketing Café – a casual\, creative meetup where GSCA members can connect\, explore ideas\, and support each other outside the inbox. \nWhy We’re Doing This \nThe Marketing Café is designed to help us learn from each other in an open\, low-pressure environment: \n\nTalk about marketing topics and trends\nShare insights\, challenges\, and solutions\nFind simple ways to collaborate with other GSCA members\n\nHow It Works \n\nA 60-minute session with a quick check-in and check-out\nCo-creative methods (including Lean Coffee) — no preparation needed\nOpen to any GSCA member\, not just marketers\nFacilitated by Caroline\, Ryan\, and Tammy\n\nDetails \n\nDate & Time: Monthly. First session: January 21 at noon ET\nLocation: Zoom – Register Here!\nHosts: Caroline\, Tammy\, and Ryan from the Marketing Committee\n\nWhether you want to exchange ideas\, learn something new\, or simply connect with colleagues\, the Marketing Café is your space to do it. \nThis initiative is a friendly spin-off from the Marketing Committee — a more informal place to collaborate\, chat\, and grow together. \nWe look forward to having you with us!
URL:https://www.giantscreencinema.com/gscaevent/marketing-cafe/
LOCATION:Zoom
CATEGORIES:Marketing
ATTACH;FMTTYPE=image/png:https://www.giantscreencinema.com/wp-content/uploads/Marketing-Cafe-square-image-2.png
END:VEVENT
END:VCALENDAR