BEGIN:VCALENDAR
VERSION:2.0
PRODID:-//Giant Screen Cinema Association - ECPv6.15.17//NONSGML v1.0//EN
CALSCALE:GREGORIAN
METHOD:PUBLISH
X-WR-CALNAME:Giant Screen Cinema Association
X-ORIGINAL-URL:https://www.giantscreencinema.com
X-WR-CALDESC:Events for Giant Screen Cinema Association
REFRESH-INTERVAL;VALUE=DURATION:PT1H
X-Robots-Tag:noindex
X-PUBLISHED-TTL:PT1H
BEGIN:VTIMEZONE
TZID:UTC
BEGIN:STANDARD
TZOFFSETFROM:+0000
TZOFFSETTO:+0000
TZNAME:UTC
DTSTART:20250101T000000
END:STANDARD
END:VTIMEZONE
BEGIN:VEVENT
DTSTART;TZID=UTC:20260429T120000
DTEND;TZID=UTC:20260429T130000
DTSTAMP:20260420T143346
CREATED:20260331T151750Z
LAST-MODIFIED:20260331T151750Z
UID:9804-1777464000-1777467600@www.giantscreencinema.com
SUMMARY:GSCA Marketing Cafe
DESCRIPTION:REGISTER HEREThe GSCA Marketing Café is a casual\, creative meetup where GSCA members can connect\, explore ideas\, and support each other outside the inbox. \nWhy We’re Doing This \nThe Marketing Café is designed to help us learn from each other in an open\, low-pressure environment: \n\nTalk about marketing topics and trends\nShare insights\, challenges\, and solutions\nFind simple ways to collaborate with other GSCA members\n\nHow It Works \n\nA 60-minute session with a quick check-in and check-out\nCo-creative methods (including Lean Coffee) — no preparation needed\nOpen to any GSCA member\, not just marketers\nFacilitated by Caroline\, Ryan\, and Tammy\n\nDetails \n\nDate & Time: Tuesday\, March 31 at noon ET\nLocation: Zoom – Register Here!\nHosts: Caroline\, Tammy\, and Ryan from the Marketing Committee\n\nWhether you want to exchange ideas\, learn something new\, or simply connect with colleagues\, the Marketing Café is your space to do it. \nThis initiative is a friendly spin-off from the Marketing Committee — a more informal place to collaborate\, chat\, and grow together. \nWe look forward to having you with us!
URL:https://www.giantscreencinema.com/gscaevent/gsca-marketing-cafe-2/
LOCATION:Zoom
CATEGORIES:Marketing
ATTACH;FMTTYPE=image/png:https://www.giantscreencinema.com/wp-content/uploads/Marketing-Cafe-square.png
END:VEVENT
END:VCALENDAR